BEGIN:VCALENDAR
VERSION:2.0
PRODID:-//Library Market//iCal Export//EN
BEGIN:VEVENT
SUMMARY:Make a Fridge Frame Gallery
UID:4346
DTSTAMP:20260421T193800Z
DTSTART:20260610T223000Z
DTEND:20260610T233000Z
LOCATION:Green Tree Public Library, 10 W. Manilla Ave, Pittsburgh, PA 1522
 0, United States
ROOM: Poplar Room
DESCRIPTION:Create your own miniature art gallery - right on your refriger
 ator! Join us for a Make a Fridge Frame Gallery workshop, where we’ll us
 e glue guns and silicone molds to craft elegant, gold-gilded frames worthy
  of a museum wall, just in a mini version. Each frame features a small ope
 ning (approximately 1.5&quot;–2&quot;) to showcase favorite artwork, pho
 tos, or printed images. Participants are welcome to bring their own small 
 images or photographs to place inside their frames during the program. We 
 will also provide a selection of magazines for image cutting and collage, 
 so you can browse, snip, and assemble the perfect piece of art on the spot
 . All materials are provided. This program is free and open to adults 18+,
  but registration is required. Space is limited.
URL:https://greentreepl.librarycalendar.com/event/make-fridge-frame-galler
 y-4346
END:VEVENT
END:VCALENDAR
