BEGIN:VCALENDAR
VERSION:2.0
PRODID:-//Library Market//iCal Export//EN
BEGIN:VEVENT
SUMMARY:Last Day of Summer Challenge
UID:4409
DTSTAMP:20260421T023300Z
DTSTART:20260808T040000Z
DTEND:20260808T040000Z
LOCATION:Green Tree Public Library, 10 W. Manilla Ave, Pittsburgh, PA 1522
 0, United States
ROOM: Last Day of Summer Challenge
DESCRIPTION:Today is the last day of the Summer Challenge. All board games
  must be turned in by today. We hope you had a great time and thanks for p
 laying! 
URL:https://greentreepl.librarycalendar.com/event/last-day-summer-challeng
 e-4409
END:VEVENT
END:VCALENDAR
